BEGIN:VCALENDAR
PRODID:-//eluceo/ical//2.0/EN
VERSION:2.0
CALSCALE:GREGORIAN
BEGIN:VEVENT
UID:521d69f6da8fbd304c0c872a439f2d70
DTSTAMP:20260421T014212Z
SUMMARY:Otec Matka Sestra Bratr
DTSTART;TZID=Europe/Prague:20260428T150000
DTEND;TZID=Europe/Prague:20260428T165000
LOCATION:Kino Světozor
END:VEVENT
END:VCALENDAR
BEGIN:VCALENDAR
PRODID:-//eluceo/ical//2.0/EN
VERSION:2.0
CALSCALE:GREGORIAN
BEGIN:VEVENT
UID:9a63d430bb91bd93110c88576b403c30
DTSTAMP:20260421T014212Z
SUMMARY:Otec Matka Sestra Bratr
DTSTART;TZID=Europe/Prague:20260428T150000
DTEND;TZID=Europe/Prague:20260428T165000
LOCATION:Kino Světozor
END:VEVENT
END:VCALENDAR
