BEGIN:VCALENDAR
PRODID:-//eluceo/ical//2.0/EN
VERSION:2.0
CALSCALE:GREGORIAN
BEGIN:VEVENT
UID:be7870e69bc383f08dbe3de4c9328627
DTSTAMP:20260421T013916Z
SUMMARY:Otec Matka Sestra Bratr
DTSTART;TZID=Europe/Prague:20260425T123000
DTEND;TZID=Europe/Prague:20260425T142000
LOCATION:Kino Světozor
END:VEVENT
END:VCALENDAR
BEGIN:VCALENDAR
PRODID:-//eluceo/ical//2.0/EN
VERSION:2.0
CALSCALE:GREGORIAN
BEGIN:VEVENT
UID:a5832469a068d9206fee71153b8d9c92
DTSTAMP:20260421T013916Z
SUMMARY:Otec Matka Sestra Bratr
DTSTART;TZID=Europe/Prague:20260425T123000
DTEND;TZID=Europe/Prague:20260425T142000
LOCATION:Kino Světozor
END:VEVENT
END:VCALENDAR
