BEGIN:VCALENDAR
PRODID:-//eluceo/ical//2.0/EN
VERSION:2.0
CALSCALE:GREGORIAN
BEGIN:VEVENT
UID:57a11dc3472ab7c3eb29ae62d4949e31
DTSTAMP:20260421T085428Z
SUMMARY:Hamnet
DTSTART;TZID=Europe/Prague:20260420T174500
DTEND;TZID=Europe/Prague:20260420T195000
LOCATION:Kino Světozor
END:VEVENT
END:VCALENDAR
BEGIN:VCALENDAR
PRODID:-//eluceo/ical//2.0/EN
VERSION:2.0
CALSCALE:GREGORIAN
BEGIN:VEVENT
UID:e49ec2da349696249f64f4eac9243d36
DTSTAMP:20260421T085428Z
SUMMARY:Hamnet
DTSTART;TZID=Europe/Prague:20260420T174500
DTEND;TZID=Europe/Prague:20260420T195000
LOCATION:Kino Světozor
END:VEVENT
END:VCALENDAR
