BEGIN:VCALENDAR
PRODID:-//eluceo/ical//2.0/EN
VERSION:2.0
CALSCALE:GREGORIAN
BEGIN:VEVENT
UID:28e823c599c84f9b39797b6af5e88ea8
DTSTAMP:20260421T090705Z
SUMMARY:Karavan
DTSTART;TZID=Europe/Prague:20260401T150000
DTEND;TZID=Europe/Prague:20260401T164200
LOCATION:Kino Světozor
END:VEVENT
END:VCALENDAR
BEGIN:VCALENDAR
PRODID:-//eluceo/ical//2.0/EN
VERSION:2.0
CALSCALE:GREGORIAN
BEGIN:VEVENT
UID:0d5eca91d442e1cb00f3f4b4a15db0c3
DTSTAMP:20260421T090705Z
SUMMARY:Karavan
DTSTART;TZID=Europe/Prague:20260401T150000
DTEND;TZID=Europe/Prague:20260401T164200
LOCATION:Kino Světozor
END:VEVENT
END:VCALENDAR
