BEGIN:VCALENDAR
PRODID:-//eluceo/ical//2.0/EN
VERSION:2.0
CALSCALE:GREGORIAN
BEGIN:VEVENT
UID:6bd2a5cbb17cb5409e44c68459c5b8b7
DTSTAMP:20260420T180909Z
SUMMARY:Kdybych měla nohy\, tak ti nakopu
DTSTART;TZID=Europe/Prague:20260425T180000
DTEND;TZID=Europe/Prague:20260425T195300
LOCATION:Bio Central
END:VEVENT
END:VCALENDAR
BEGIN:VCALENDAR
PRODID:-//eluceo/ical//2.0/EN
VERSION:2.0
CALSCALE:GREGORIAN
BEGIN:VEVENT
UID:f42c148fc1ea28f72bb79150c7047b42
DTSTAMP:20260420T180909Z
SUMMARY:Kdybych měla nohy\, tak ti nakopu
DTSTART;TZID=Europe/Prague:20260425T180000
DTEND;TZID=Europe/Prague:20260425T195300
LOCATION:Bio Central
END:VEVENT
END:VCALENDAR
