BEGIN:VCALENDAR
PRODID:-//eluceo/ical//2.0/EN
VERSION:2.0
CALSCALE:GREGORIAN
BEGIN:VEVENT
UID:28943fd9cdc1bc35b6351b07664239a7
DTSTAMP:20260420T181056Z
SUMMARY:Kdybych měla nohy\, tak ti nakopu
DTSTART;TZID=Europe/Prague:20260426T203000
DTEND;TZID=Europe/Prague:20260426T222300
LOCATION:Bio Central
END:VEVENT
END:VCALENDAR
BEGIN:VCALENDAR
PRODID:-//eluceo/ical//2.0/EN
VERSION:2.0
CALSCALE:GREGORIAN
BEGIN:VEVENT
UID:8f0f01d05349748d2a94ce290d0d5dac
DTSTAMP:20260420T181056Z
SUMMARY:Kdybych měla nohy\, tak ti nakopu
DTSTART;TZID=Europe/Prague:20260426T203000
DTEND;TZID=Europe/Prague:20260426T222300
LOCATION:Bio Central
END:VEVENT
END:VCALENDAR
