BEGIN:VCALENDAR
PRODID:-//eluceo/ical//2.0/EN
VERSION:2.0
CALSCALE:GREGORIAN
BEGIN:VEVENT
UID:676a1b6fe4d98b286ce8f6b10a987e8b
DTSTAMP:20260420T181129Z
SUMMARY:Kdybych měla nohy\, tak ti nakopu
DTSTART;TZID=Europe/Prague:20260423T203000
DTEND;TZID=Europe/Prague:20260423T222300
LOCATION:Bio Central
END:VEVENT
END:VCALENDAR
BEGIN:VCALENDAR
PRODID:-//eluceo/ical//2.0/EN
VERSION:2.0
CALSCALE:GREGORIAN
BEGIN:VEVENT
UID:0729ec58c87e827f6eb20582ba11122d
DTSTAMP:20260420T181129Z
SUMMARY:Kdybych měla nohy\, tak ti nakopu
DTSTART;TZID=Europe/Prague:20260423T203000
DTEND;TZID=Europe/Prague:20260423T222300
LOCATION:Bio Central
END:VEVENT
END:VCALENDAR
