BEGIN:VCALENDAR
PRODID:-//eluceo/ical//2.0/EN
VERSION:2.0
CALSCALE:GREGORIAN
BEGIN:VEVENT
UID:c88f268cb8d17c99b88054d9dfcc91df
DTSTAMP:20260420T180501Z
SUMMARY:Kdybych měla nohy\, tak ti nakopu
DTSTART;TZID=Europe/Prague:20260528T133000
DTEND;TZID=Europe/Prague:20260528T152300
LOCATION:Kino Aero
END:VEVENT
END:VCALENDAR
BEGIN:VCALENDAR
PRODID:-//eluceo/ical//2.0/EN
VERSION:2.0
CALSCALE:GREGORIAN
BEGIN:VEVENT
UID:3c2dd6dcb441da4580284302726e5b84
DTSTAMP:20260420T180501Z
SUMMARY:Kdybych měla nohy\, tak ti nakopu
DTSTART;TZID=Europe/Prague:20260528T133000
DTEND;TZID=Europe/Prague:20260528T152300
LOCATION:Kino Aero
END:VEVENT
END:VCALENDAR
