BEGIN:VCALENDAR
PRODID:-//eluceo/ical//2.0/EN
VERSION:2.0
CALSCALE:GREGORIAN
BEGIN:VEVENT
UID:7b629e90eae26932e0de3f4164bf677c
DTSTAMP:20260420T180628Z
SUMMARY:Kdybych měla nohy\, tak ti nakopu
DTSTART;TZID=Europe/Prague:20260424T180000
DTEND;TZID=Europe/Prague:20260424T195300
LOCATION:Kino Světozor
END:VEVENT
END:VCALENDAR
BEGIN:VCALENDAR
PRODID:-//eluceo/ical//2.0/EN
VERSION:2.0
CALSCALE:GREGORIAN
BEGIN:VEVENT
UID:485c3756ed569cb86cfd21270663b6e8
DTSTAMP:20260420T180628Z
SUMMARY:Kdybych měla nohy\, tak ti nakopu
DTSTART;TZID=Europe/Prague:20260424T180000
DTEND;TZID=Europe/Prague:20260424T195300
LOCATION:Kino Světozor
END:VEVENT
END:VCALENDAR
