BEGIN:VCALENDAR
PRODID:-//eluceo/ical//2.0/EN
VERSION:2.0
CALSCALE:GREGORIAN
BEGIN:VEVENT
UID:327323872e6075f0fc2413299f73a8f8
DTSTAMP:20260420T181216Z
SUMMARY:Kdybych měla nohy\, tak ti nakopu
DTSTART;TZID=Europe/Prague:20260429T153000
DTEND;TZID=Europe/Prague:20260429T172300
LOCATION:Kino Světozor
END:VEVENT
END:VCALENDAR
BEGIN:VCALENDAR
PRODID:-//eluceo/ical//2.0/EN
VERSION:2.0
CALSCALE:GREGORIAN
BEGIN:VEVENT
UID:f3b28e656b6563a81c99de5a4930264d
DTSTAMP:20260420T181216Z
SUMMARY:Kdybych měla nohy\, tak ti nakopu
DTSTART;TZID=Europe/Prague:20260429T153000
DTEND;TZID=Europe/Prague:20260429T172300
LOCATION:Kino Světozor
END:VEVENT
END:VCALENDAR
