BEGIN:VCALENDAR
PRODID:-//eluceo/ical//2.0/EN
VERSION:2.0
CALSCALE:GREGORIAN
BEGIN:VEVENT
UID:e81941e7dae5b706150ba42062085965
DTSTAMP:20260420T180954Z
SUMMARY:Kdybych měla nohy\, tak ti nakopu
DTSTART;TZID=Europe/Prague:20260428T151500
DTEND;TZID=Europe/Prague:20260428T170800
LOCATION:Kino Světozor
END:VEVENT
END:VCALENDAR
BEGIN:VCALENDAR
PRODID:-//eluceo/ical//2.0/EN
VERSION:2.0
CALSCALE:GREGORIAN
BEGIN:VEVENT
UID:d4462144484a4c00dc8eb0ded3b96af7
DTSTAMP:20260420T180954Z
SUMMARY:Kdybych měla nohy\, tak ti nakopu
DTSTART;TZID=Europe/Prague:20260428T151500
DTEND;TZID=Europe/Prague:20260428T170800
LOCATION:Kino Světozor
END:VEVENT
END:VCALENDAR
