BEGIN:VCALENDAR
PRODID:-//eluceo/ical//2.0/EN
VERSION:2.0
CALSCALE:GREGORIAN
BEGIN:VEVENT
UID:898b4a001daabe56f03b9f7ebccdae72
DTSTAMP:20260420T181103Z
SUMMARY:Kdybych měla nohy\, tak ti nakopu
DTSTART;TZID=Europe/Prague:20260426T181500
DTEND;TZID=Europe/Prague:20260426T200800
LOCATION:Kino Světozor
END:VEVENT
END:VCALENDAR
BEGIN:VCALENDAR
PRODID:-//eluceo/ical//2.0/EN
VERSION:2.0
CALSCALE:GREGORIAN
BEGIN:VEVENT
UID:05841471c45a747902e3fdb71b26a08e
DTSTAMP:20260420T181103Z
SUMMARY:Kdybych měla nohy\, tak ti nakopu
DTSTART;TZID=Europe/Prague:20260426T181500
DTEND;TZID=Europe/Prague:20260426T200800
LOCATION:Kino Světozor
END:VEVENT
END:VCALENDAR
