BEGIN:VCALENDAR
PRODID:-//eluceo/ical//2.0/EN
VERSION:2.0
CALSCALE:GREGORIAN
BEGIN:VEVENT
UID:37f182fcc404dfecc213a63190ffbddf
DTSTAMP:20260420T180750Z
SUMMARY:Kdybych měla nohy\, tak ti nakopu
DTSTART;TZID=Europe/Prague:20260423T174500
DTEND;TZID=Europe/Prague:20260423T193800
LOCATION:Kino Světozor
END:VEVENT
END:VCALENDAR
BEGIN:VCALENDAR
PRODID:-//eluceo/ical//2.0/EN
VERSION:2.0
CALSCALE:GREGORIAN
BEGIN:VEVENT
UID:eeb02f72fe78117fbae7fc0b82e3b4b0
DTSTAMP:20260420T180750Z
SUMMARY:Kdybych měla nohy\, tak ti nakopu
DTSTART;TZID=Europe/Prague:20260423T174500
DTEND;TZID=Europe/Prague:20260423T193800
LOCATION:Kino Světozor
END:VEVENT
END:VCALENDAR
