BEGIN:VCALENDAR
PRODID:-//eluceo/ical//2.0/EN
VERSION:2.0
CALSCALE:GREGORIAN
BEGIN:VEVENT
UID:e9bd3fcff65942e7705d299e83005c22
DTSTAMP:20260420T181001Z
SUMMARY:Kdybych měla nohy\, tak ti nakopu
DTSTART;TZID=Europe/Prague:20260427T180000
DTEND;TZID=Europe/Prague:20260427T195300
LOCATION:Kino Světozor
END:VEVENT
END:VCALENDAR
BEGIN:VCALENDAR
PRODID:-//eluceo/ical//2.0/EN
VERSION:2.0
CALSCALE:GREGORIAN
BEGIN:VEVENT
UID:7e85d4a3b05643a077df62a9383d0832
DTSTAMP:20260420T181001Z
SUMMARY:Kdybych měla nohy\, tak ti nakopu
DTSTART;TZID=Europe/Prague:20260427T180000
DTEND;TZID=Europe/Prague:20260427T195300
LOCATION:Kino Světozor
END:VEVENT
END:VCALENDAR
