BEGIN:VCALENDAR
PRODID:-//eluceo/ical//2.0/EN
VERSION:2.0
CALSCALE:GREGORIAN
BEGIN:VEVENT
UID:69c1148ccb6042b4cfc43de31c58e6cd
DTSTAMP:20260420T180628Z
SUMMARY:Kdybych měla nohy\, tak ti nakopu
DTSTART;TZID=Europe/Prague:20260427T153000
DTEND;TZID=Europe/Prague:20260427T172300
LOCATION:Kino Lucerna
END:VEVENT
END:VCALENDAR
BEGIN:VCALENDAR
PRODID:-//eluceo/ical//2.0/EN
VERSION:2.0
CALSCALE:GREGORIAN
BEGIN:VEVENT
UID:2face1b8eae189b8ec1829eace5ba23a
DTSTAMP:20260420T180628Z
SUMMARY:Kdybych měla nohy\, tak ti nakopu
DTSTART;TZID=Europe/Prague:20260427T153000
DTEND;TZID=Europe/Prague:20260427T172300
LOCATION:Kino Lucerna
END:VEVENT
END:VCALENDAR
