BEGIN:VCALENDAR
PRODID:-//eluceo/ical//2.0/EN
VERSION:2.0
CALSCALE:GREGORIAN
BEGIN:VEVENT
UID:9249d0355451fc8e885fa33c48f7142f
DTSTAMP:20260420T180501Z
SUMMARY:Kdybych měla nohy\, tak ti nakopu
DTSTART;TZID=Europe/Prague:20260428T203000
DTEND;TZID=Europe/Prague:20260428T222300
LOCATION:Kino Lucerna
END:VEVENT
END:VCALENDAR
BEGIN:VCALENDAR
PRODID:-//eluceo/ical//2.0/EN
VERSION:2.0
CALSCALE:GREGORIAN
BEGIN:VEVENT
UID:443086e4dbfdb3af7c2bed255bbd4de2
DTSTAMP:20260420T180501Z
SUMMARY:Kdybych měla nohy\, tak ti nakopu
DTSTART;TZID=Europe/Prague:20260428T203000
DTEND;TZID=Europe/Prague:20260428T222300
LOCATION:Kino Lucerna
END:VEVENT
END:VCALENDAR
