BEGIN:VCALENDAR
PRODID:-//eluceo/ical//2.0/EN
VERSION:2.0
CALSCALE:GREGORIAN
BEGIN:VEVENT
UID:841229605e322a104530b1d0104954fc
DTSTAMP:20260420T180333Z
SUMMARY:Kdybych měla nohy\, tak ti nakopu
DTSTART;TZID=Europe/Prague:20260425T113000
DTEND;TZID=Europe/Prague:20260425T132300
LOCATION:Bio Oko
END:VEVENT
END:VCALENDAR
BEGIN:VCALENDAR
PRODID:-//eluceo/ical//2.0/EN
VERSION:2.0
CALSCALE:GREGORIAN
BEGIN:VEVENT
UID:ec18032546c2582fc8a0595e12880d63
DTSTAMP:20260420T180333Z
SUMMARY:Kdybych měla nohy\, tak ti nakopu
DTSTART;TZID=Europe/Prague:20260425T113000
DTEND;TZID=Europe/Prague:20260425T132300
LOCATION:Bio Oko
END:VEVENT
END:VCALENDAR
