BEGIN:VCALENDAR
PRODID:-//eluceo/ical//2.0/EN
VERSION:2.0
CALSCALE:GREGORIAN
BEGIN:VEVENT
UID:c358f179362166cc4287d09cf0f31352
DTSTAMP:20260419T170905Z
SUMMARY:Milost
DTSTART;TZID=Europe/Prague:20260426T174500
DTEND;TZID=Europe/Prague:20260426T195600
LOCATION:Kino Lucerna
END:VEVENT
END:VCALENDAR
BEGIN:VCALENDAR
PRODID:-//eluceo/ical//2.0/EN
VERSION:2.0
CALSCALE:GREGORIAN
BEGIN:VEVENT
UID:a8de60ae7494d29a1c5c59940320b6af
DTSTAMP:20260419T170905Z
SUMMARY:Milost
DTSTART;TZID=Europe/Prague:20260426T174500
DTEND;TZID=Europe/Prague:20260426T195600
LOCATION:Kino Lucerna
END:VEVENT
END:VCALENDAR
