BEGIN:VCALENDAR
PRODID:-//eluceo/ical//2.0/EN
VERSION:2.0
CALSCALE:GREGORIAN
BEGIN:VEVENT
UID:5716599f5f05d12e1682ecc02abdd670
DTSTAMP:20260420T180557Z
SUMMARY:Kdybych měla nohy\, tak ti nakopu
DTSTART;TZID=Europe/Prague:20260426T151500
DTEND;TZID=Europe/Prague:20260426T170800
LOCATION:Kino Lucerna
END:VEVENT
END:VCALENDAR
BEGIN:VCALENDAR
PRODID:-//eluceo/ical//2.0/EN
VERSION:2.0
CALSCALE:GREGORIAN
BEGIN:VEVENT
UID:e42f31738d498e45c4944e580cc1135c
DTSTAMP:20260420T180557Z
SUMMARY:Kdybych měla nohy\, tak ti nakopu
DTSTART;TZID=Europe/Prague:20260426T151500
DTEND;TZID=Europe/Prague:20260426T170800
LOCATION:Kino Lucerna
END:VEVENT
END:VCALENDAR
