BEGIN:VCALENDAR
PRODID:-//eluceo/ical//2.0/EN
VERSION:2.0
CALSCALE:GREGORIAN
BEGIN:VEVENT
UID:dcd37b6b8e9bb461e433db841a50865d
DTSTAMP:20260420T180454Z
SUMMARY:Kdybych měla nohy\, tak ti nakopu
DTSTART;TZID=Europe/Prague:20260425T201500
DTEND;TZID=Europe/Prague:20260425T220800
LOCATION:Kino Lucerna
END:VEVENT
END:VCALENDAR
BEGIN:VCALENDAR
PRODID:-//eluceo/ical//2.0/EN
VERSION:2.0
CALSCALE:GREGORIAN
BEGIN:VEVENT
UID:3e64d76a016d9721ee7a53c68ef6c650
DTSTAMP:20260420T180454Z
SUMMARY:Kdybych měla nohy\, tak ti nakopu
DTSTART;TZID=Europe/Prague:20260425T201500
DTEND;TZID=Europe/Prague:20260425T220800
LOCATION:Kino Lucerna
END:VEVENT
END:VCALENDAR
