BEGIN:VCALENDAR
PRODID:-//eluceo/ical//2.0/EN
VERSION:2.0
CALSCALE:GREGORIAN
BEGIN:VEVENT
UID:6be7ec0f5a68d1a14d39438bfb44dac9
DTSTAMP:20260419T170507Z
SUMMARY:Milost
DTSTART;TZID=Europe/Prague:20260425T130000
DTEND;TZID=Europe/Prague:20260425T151100
LOCATION:Kino Lucerna
END:VEVENT
END:VCALENDAR
BEGIN:VCALENDAR
PRODID:-//eluceo/ical//2.0/EN
VERSION:2.0
CALSCALE:GREGORIAN
BEGIN:VEVENT
UID:7e0d44c1ab0855c8cd3154fc9febe68a
DTSTAMP:20260419T170507Z
SUMMARY:Milost
DTSTART;TZID=Europe/Prague:20260425T130000
DTEND;TZID=Europe/Prague:20260425T151100
LOCATION:Kino Lucerna
END:VEVENT
END:VCALENDAR
