BEGIN:VCALENDAR
PRODID:-//eluceo/ical//2.0/EN
VERSION:2.0
CALSCALE:GREGORIAN
BEGIN:VEVENT
UID:cdb00869f76e4c88d836f914a37d46fd
DTSTAMP:20260420T180333Z
SUMMARY:Kdybych měla nohy\, tak ti nakopu
DTSTART;TZID=Europe/Prague:20260428T180000
DTEND;TZID=Europe/Prague:20260428T195300
LOCATION:Kino Aero
END:VEVENT
END:VCALENDAR
BEGIN:VCALENDAR
PRODID:-//eluceo/ical//2.0/EN
VERSION:2.0
CALSCALE:GREGORIAN
BEGIN:VEVENT
UID:5d7bdb7bd3b9f1268dd5b89b59ee8115
DTSTAMP:20260420T180333Z
SUMMARY:Kdybych měla nohy\, tak ti nakopu
DTSTART;TZID=Europe/Prague:20260428T180000
DTEND;TZID=Europe/Prague:20260428T195300
LOCATION:Kino Aero
END:VEVENT
END:VCALENDAR
