BEGIN:VCALENDAR
PRODID:-//eluceo/ical//2.0/EN
VERSION:2.0
CALSCALE:GREGORIAN
BEGIN:VEVENT
UID:8ac01ea6b4fc54e9f12c04057ca1d9ff
DTSTAMP:20260420T180454Z
SUMMARY:Kdybych měla nohy\, tak ti nakopu
DTSTART;TZID=Europe/Prague:20260521T150000
DTEND;TZID=Europe/Prague:20260521T165300
LOCATION:Kino Světozor
END:VEVENT
END:VCALENDAR
BEGIN:VCALENDAR
PRODID:-//eluceo/ical//2.0/EN
VERSION:2.0
CALSCALE:GREGORIAN
BEGIN:VEVENT
UID:a7e1a1e15dab371b828ebe4893f3e40f
DTSTAMP:20260420T180454Z
SUMMARY:Kdybych měla nohy\, tak ti nakopu
DTSTART;TZID=Europe/Prague:20260521T150000
DTEND;TZID=Europe/Prague:20260521T165300
LOCATION:Kino Světozor
END:VEVENT
END:VCALENDAR
