BEGIN:VCALENDAR
PRODID:-//eluceo/ical//2.0/EN
VERSION:2.0
CALSCALE:GREGORIAN
BEGIN:VEVENT
UID:9977e139d2e31e302ba511af47d5f844
DTSTAMP:20260420T180429Z
SUMMARY:Kdybych měla nohy\, tak ti nakopu
DTSTART;TZID=Europe/Prague:20260424T173000
DTEND;TZID=Europe/Prague:20260424T192300
LOCATION:Kino Přítomnost
END:VEVENT
END:VCALENDAR
BEGIN:VCALENDAR
PRODID:-//eluceo/ical//2.0/EN
VERSION:2.0
CALSCALE:GREGORIAN
BEGIN:VEVENT
UID:008bfce4efd917bff527ba0b50549018
DTSTAMP:20260420T180429Z
SUMMARY:Kdybych měla nohy\, tak ti nakopu
DTSTART;TZID=Europe/Prague:20260424T173000
DTEND;TZID=Europe/Prague:20260424T192300
LOCATION:Kino Přítomnost
END:VEVENT
END:VCALENDAR
