BEGIN:VCALENDAR
PRODID:-//eluceo/ical//2.0/EN
VERSION:2.0
CALSCALE:GREGORIAN
BEGIN:VEVENT
UID:9084affa648c1cdb7570c8297228735d
DTSTAMP:20260420T180557Z
SUMMARY:Kdybych měla nohy\, tak ti nakopu
DTSTART;TZID=Europe/Prague:20260429T173000
DTEND;TZID=Europe/Prague:20260429T192300
LOCATION:Univerzitní kino Scala
END:VEVENT
END:VCALENDAR
BEGIN:VCALENDAR
PRODID:-//eluceo/ical//2.0/EN
VERSION:2.0
CALSCALE:GREGORIAN
BEGIN:VEVENT
UID:f5bf1b7229b451eac6cf4e4c1ec112c7
DTSTAMP:20260420T180557Z
SUMMARY:Kdybych měla nohy\, tak ti nakopu
DTSTART;TZID=Europe/Prague:20260429T173000
DTEND;TZID=Europe/Prague:20260429T192300
LOCATION:Univerzitní kino Scala
END:VEVENT
END:VCALENDAR
