BEGIN:VCALENDAR
PRODID:-//eluceo/ical//2.0/EN
VERSION:2.0
CALSCALE:GREGORIAN
BEGIN:VEVENT
UID:c7e2390053ff2ee79ddce5ee628b1bf4
DTSTAMP:20260420T180801Z
SUMMARY:Kdybych měla nohy\, tak ti nakopu
DTSTART;TZID=Europe/Prague:20260426T200000
DTEND;TZID=Europe/Prague:20260426T215300
LOCATION:Univerzitní kino Scala
END:VEVENT
END:VCALENDAR
BEGIN:VCALENDAR
PRODID:-//eluceo/ical//2.0/EN
VERSION:2.0
CALSCALE:GREGORIAN
BEGIN:VEVENT
UID:d02fadde2849179293848e0299ec20c0
DTSTAMP:20260420T180801Z
SUMMARY:Kdybych měla nohy\, tak ti nakopu
DTSTART;TZID=Europe/Prague:20260426T200000
DTEND;TZID=Europe/Prague:20260426T215300
LOCATION:Univerzitní kino Scala
END:VEVENT
END:VCALENDAR
