BEGIN:VCALENDAR
PRODID:-//eluceo/ical//2.0/EN
VERSION:2.0
CALSCALE:GREGORIAN
BEGIN:VEVENT
UID:494a0621df9e6ceebb32f98657639585
DTSTAMP:20260420T180429Z
SUMMARY:Kdybych měla nohy\, tak ti nakopu
DTSTART;TZID=Europe/Prague:20260424T200000
DTEND;TZID=Europe/Prague:20260424T215300
LOCATION:Univerzitní kino Scala
END:VEVENT
END:VCALENDAR
BEGIN:VCALENDAR
PRODID:-//eluceo/ical//2.0/EN
VERSION:2.0
CALSCALE:GREGORIAN
BEGIN:VEVENT
UID:27b7193c55d2b4ea6600684bb625cbb0
DTSTAMP:20260420T180429Z
SUMMARY:Kdybych měla nohy\, tak ti nakopu
DTSTART;TZID=Europe/Prague:20260424T200000
DTEND;TZID=Europe/Prague:20260424T215300
LOCATION:Univerzitní kino Scala
END:VEVENT
END:VCALENDAR
