BEGIN:VCALENDAR
PRODID:-//eluceo/ical//2.0/EN
VERSION:2.0
CALSCALE:GREGORIAN
BEGIN:VEVENT
UID:646da7bb742bec06a3f21da57e8a76c8
DTSTAMP:20260420T180914Z
SUMMARY:Kdybych měla nohy\, tak ti nakopu
DTSTART;TZID=Europe/Prague:20260421T203000
DTEND;TZID=Europe/Prague:20260421T222300
LOCATION:Kino Světozor
END:VEVENT
END:VCALENDAR
BEGIN:VCALENDAR
PRODID:-//eluceo/ical//2.0/EN
VERSION:2.0
CALSCALE:GREGORIAN
BEGIN:VEVENT
UID:f300387e0d32dbbd72b758f0fe3e5c48
DTSTAMP:20260420T180914Z
SUMMARY:Kdybych měla nohy\, tak ti nakopu
DTSTART;TZID=Europe/Prague:20260421T203000
DTEND;TZID=Europe/Prague:20260421T222300
LOCATION:Kino Světozor
END:VEVENT
END:VCALENDAR
