BEGIN:VCALENDAR
PRODID:-//eluceo/ical//2.0/EN
VERSION:2.0
CALSCALE:GREGORIAN
BEGIN:VEVENT
UID:a5d88cf190d9d0f9e28fd83e74e5aef2
DTSTAMP:20260420T181231Z
SUMMARY:Kdybych měla nohy\, tak ti nakopu
DTSTART;TZID=Europe/Prague:20260422T200000
DTEND;TZID=Europe/Prague:20260422T215300
LOCATION:Kino Přítomnost
END:VEVENT
END:VCALENDAR
BEGIN:VCALENDAR
PRODID:-//eluceo/ical//2.0/EN
VERSION:2.0
CALSCALE:GREGORIAN
BEGIN:VEVENT
UID:0074b6cd28c8708fb5816928560e2b09
DTSTAMP:20260420T181231Z
SUMMARY:Kdybych měla nohy\, tak ti nakopu
DTSTART;TZID=Europe/Prague:20260422T200000
DTEND;TZID=Europe/Prague:20260422T215300
LOCATION:Kino Přítomnost
END:VEVENT
END:VCALENDAR
